{
 "currentVersion": 10.91,
 "serviceDescription": "",
 "mapName": "Layers",
 "description": "",
 "copyrightText": "",
 "supportsDynamicLayers": true,
 "layers": [
  {
   "id": 0,
   "name": "muvsetin_sde_r.MUVSETIN_SDE_R.ortofoto_1979_vsetin",
   "parentLayerId": -1,
   "defaultVisibility": true,
   "subLayerIds": [
    1,
    2,
    3
   ],
   "minScale": 0,
   "maxScale": 0,
   "type": "Mosaic Layer"
  },
  {
   "id": 1,
   "name": "Boundary",
   "parentLayerId": 0,
   "defaultVisibility": false,
   "subLayerIds": null,
   "minScale": 0,
   "maxScale": 0,
   "type": "Feature Layer",
   "geometryType": "esriGeometryPolygon"
  },
  {
   "id": 2,
   "name": "Footprint",
   "parentLayerId": 0,
   "defaultVisibility": false,
   "subLayerIds": null,
   "minScale": 0,
   "maxScale": 0,
   "type": "Feature Layer",
   "geometryType": "esriGeometryPolygon"
  },
  {
   "id": 3,
   "name": "Image",
   "parentLayerId": 0,
   "defaultVisibility": true,
   "subLayerIds": null,
   "minScale": 0,
   "maxScale": 0,
   "type": "Raster Layer"
  }
 ],
 "tables": [],
 "spatialReference": {
  "wkid": 102067,
  "latestWkid": 5514
 },
 "singleFusedMapCache": true,
 "tileInfo": {
  "rows": 256,
  "cols": 256,
  "dpi": 96,
  "format": "JPEG",
  "compressionQuality": 75,
  "origin": {
   "x": -920000,
   "y": -920000
  },
  "spatialReference": {
   "wkid": 102067,
   "latestWkid": 5514
  },
  "lods": [
   {
    "level": 0,
    "resolution": 2048.260096520193,
    "scale": 7741440
   },
   {
    "level": 1,
    "resolution": 1024.1300482600966,
    "scale": 3870720
   },
   {
    "level": 2,
    "resolution": 512.0650241300483,
    "scale": 1935360
   },
   {
    "level": 3,
    "resolution": 256.03251206502415,
    "scale": 967680
   },
   {
    "level": 4,
    "resolution": 128.01625603251208,
    "scale": 483840
   },
   {
    "level": 5,
    "resolution": 64.00812801625604,
    "scale": 241920
   },
   {
    "level": 6,
    "resolution": 32.00406400812802,
    "scale": 120960
   },
   {
    "level": 7,
    "resolution": 16.00203200406401,
    "scale": 60480
   },
   {
    "level": 8,
    "resolution": 8.001016002032005,
    "scale": 30240
   },
   {
    "level": 9,
    "resolution": 4.000508001016002,
    "scale": 15120
   },
   {
    "level": 10,
    "resolution": 2.000254000508001,
    "scale": 7560
   },
   {
    "level": 11,
    "resolution": 1.0001270002540006,
    "scale": 3780
   },
   {
    "level": 12,
    "resolution": 0.5000635001270003,
    "scale": 1890
   },
   {
    "level": 13,
    "resolution": 0.25003175006350015,
    "scale": 945
   }
  ]
 },
 "initialExtent": {
  "xmin": -508377.62625876436,
  "ymin": -1160459.1726359273,
  "xmax": -479705.791319819,
  "ymax": -1146546.5722534773,
  "spatialReference": {
   "wkid": 102067,
   "latestWkid": 5514
  }
 },
 "fullExtent": {
  "xmin": -502956.06593618,
  "ymin": -1160347.45132608,
  "xmax": -485127.41116152203,
  "ymax": -1150499.903268915,
  "spatialReference": {
   "wkid": 102067,
   "latestWkid": 5514
  }
 },
 "minScale": 7741440,
 "maxScale": 945,
 "units": "esriMeters",
 "supportedImageFormatTypes": "PNG32,PNG24,PNG,JPG,DIB,TIFF,EMF,PS,PDF,GIF,SVG,SVGZ,BMP",
 "documentInfo": {
  "Title": "",
  "Author": "",
  "Comments": "",
  "Subject": "",
  "Category": "",
  "AntialiasingMode": "None",
  "TextAntialiasingMode": "Force",
  "Keywords": ""
 },
 "capabilities": "Map,Query,Data",
 "supportedQueryFormats": "JSON, geoJSON",
 "exportTilesAllowed": false,
 "referenceScale": 0,
 "datumTransformations": [
  {
   "geoTransforms": [
    {
     "wkid": 108001,
     "latestWkid": 1241,
     "transformForward": true,
     "name": "NAD_1927_To_NAD_1983_NADCON"
    }
   ]
  },
  {
   "geoTransforms": [
    {
     "wkid": 108001,
     "latestWkid": 1241,
     "transformForward": false,
     "name": "NAD_1927_To_NAD_1983_NADCON"
    }
   ]
  }
 ],
 "supportsDatumTransformation": true,
 "maxRecordCount": 1000,
 "maxImageHeight": 4096,
 "maxImageWidth": 4096,
 "supportedExtensions": "KmlServer, WMSServer"
}
